BEGIN:VCALENDAR
VERSION:2.0
PRODID:-//Archanciel - ECPv6.15.20//NONSGML v1.0//EN
CALSCALE:GREGORIAN
METHOD:PUBLISH
X-ORIGINAL-URL:https://archanciel.com
X-WR-CALDESC:Évènements pour Archanciel
REFRESH-INTERVAL;VALUE=DURATION:PT1H
X-Robots-Tag:noindex
X-PUBLISHED-TTL:PT1H
BEGIN:VTIMEZONE
TZID:Europe/Zurich
BEGIN:DAYLIGHT
TZOFFSETFROM:+0100
TZOFFSETTO:+0200
TZNAME:CEST
DTSTART:20240331T010000
END:DAYLIGHT
BEGIN:STANDARD
TZOFFSETFROM:+0200
TZOFFSETTO:+0100
TZNAME:CET
DTSTART:20241027T010000
END:STANDARD
BEGIN:DAYLIGHT
TZOFFSETFROM:+0100
TZOFFSETTO:+0200
TZNAME:CEST
DTSTART:20250330T010000
END:DAYLIGHT
BEGIN:STANDARD
TZOFFSETFROM:+0200
TZOFFSETTO:+0100
TZNAME:CET
DTSTART:20251026T010000
END:STANDARD
BEGIN:DAYLIGHT
TZOFFSETFROM:+0100
TZOFFSETTO:+0200
TZNAME:CEST
DTSTART:20260329T010000
END:DAYLIGHT
BEGIN:STANDARD
TZOFFSETFROM:+0200
TZOFFSETTO:+0100
TZNAME:CET
DTSTART:20261025T010000
END:STANDARD
END:VTIMEZONE
BEGIN:VEVENT
DTSTART;TZID=Europe/Zurich:20250626T080000
DTEND;TZID=Europe/Zurich:20250626T170000
DTSTAMP:20260425T133110
CREATED:20250321T131426Z
LAST-MODIFIED:20250627T165319Z
UID:3008-1750924800-1750957200@archanciel.com
SUMMARY:Journée Archangélique
DESCRIPTION:Pour avoir une canalisation avec l’Archange Michael et un soin\ndurée 1h30 prix 200.–\n\nPour recevoir un soin de Odile et moi-même durée 1h prix 150.–\n\nPrise de rendez-vous par téléphone 079 486 65 63 ou mail\nmyriam@archanciel.com
URL:https://archanciel.com/evenement/journee-archangelique-32/
LOCATION:Archanciel\, Félix-Bovet 6b\, Areuse\, NE\, 2015\, Switzerland
CATEGORIES:Archange Mickaël,Collaborations
ORGANIZER;CN="Myriam Moltrasio":MAILTO:myriam@archanciel.com
END:VEVENT
END:VCALENDAR