BEGIN:VCALENDAR
VERSION:2.0
PRODID:-//Archanciel - ECPv6.15.20//NONSGML v1.0//EN
CALSCALE:GREGORIAN
METHOD:PUBLISH
X-WR-CALNAME:Archanciel
X-ORIGINAL-URL:https://archanciel.com
X-WR-CALDESC:Évènements pour Archanciel
REFRESH-INTERVAL;VALUE=DURATION:PT1H
X-Robots-Tag:noindex
X-PUBLISHED-TTL:PT1H
BEGIN:VTIMEZONE
TZID:Europe/Zurich
BEGIN:DAYLIGHT
TZOFFSETFROM:+0100
TZOFFSETTO:+0200
TZNAME:CEST
DTSTART:20230326T010000
END:DAYLIGHT
BEGIN:STANDARD
TZOFFSETFROM:+0200
TZOFFSETTO:+0100
TZNAME:CET
DTSTART:20231029T010000
END:STANDARD
BEGIN:DAYLIGHT
TZOFFSETFROM:+0100
TZOFFSETTO:+0200
TZNAME:CEST
DTSTART:20240331T010000
END:DAYLIGHT
BEGIN:STANDARD
TZOFFSETFROM:+0200
TZOFFSETTO:+0100
TZNAME:CET
DTSTART:20241027T010000
END:STANDARD
BEGIN:DAYLIGHT
TZOFFSETFROM:+0100
TZOFFSETTO:+0200
TZNAME:CEST
DTSTART:20250330T010000
END:DAYLIGHT
BEGIN:STANDARD
TZOFFSETFROM:+0200
TZOFFSETTO:+0100
TZNAME:CET
DTSTART:20251026T010000
END:STANDARD
END:VTIMEZONE
BEGIN:VEVENT
DTSTART;VALUE=DATE:20241002
DTEND;VALUE=DATE:20241003
DTSTAMP:20260426T053911
CREATED:20240909T093436Z
LAST-MODIFIED:20250614T121031Z
UID:2593-1727827200-1727913599@archanciel.com
SUMMARY:Journée Archangélique
DESCRIPTION:Pour avoir une canalisation avec l’Archange Michael et un soin\ndurée 1h30 prix 200.– \nPour recevoir un soin de Odile et moi-même durée 1h prix 150.– \nPrise de rendez-vous par téléphone 079 486 65 63 ou mail\nmyriam@archanciel.com
URL:https://archanciel.com/evenement/journee-archangelique-27/
LOCATION:Archanciel\, Félix-Bovet 6b\, Areuse\, NE\, 2015\, Switzerland
CATEGORIES:Archange Mickaël,Collaborations
ORGANIZER;CN="Myriam Moltrasio":MAILTO:myriam@archanciel.com
END:VEVENT
END:VCALENDAR