BEGIN:VCALENDAR
VERSION:2.0
PRODID:-//Archanciel - ECPv6.15.20//NONSGML v1.0//EN
CALSCALE:GREGORIAN
METHOD:PUBLISH
X-WR-CALNAME:Archanciel
X-ORIGINAL-URL:https://archanciel.com
X-WR-CALDESC:Évènements pour Archanciel
REFRESH-INTERVAL;VALUE=DURATION:PT1H
X-Robots-Tag:noindex
X-PUBLISHED-TTL:PT1H
BEGIN:VTIMEZONE
TZID:Europe/Zurich
BEGIN:DAYLIGHT
TZOFFSETFROM:+0100
TZOFFSETTO:+0200
TZNAME:CEST
DTSTART:20250330T010000
END:DAYLIGHT
BEGIN:STANDARD
TZOFFSETFROM:+0200
TZOFFSETTO:+0100
TZNAME:CET
DTSTART:20251026T010000
END:STANDARD
BEGIN:DAYLIGHT
TZOFFSETFROM:+0100
TZOFFSETTO:+0200
TZNAME:CEST
DTSTART:20260329T010000
END:DAYLIGHT
BEGIN:STANDARD
TZOFFSETFROM:+0200
TZOFFSETTO:+0100
TZNAME:CET
DTSTART:20261025T010000
END:STANDARD
BEGIN:DAYLIGHT
TZOFFSETFROM:+0100
TZOFFSETTO:+0200
TZNAME:CEST
DTSTART:20270328T010000
END:DAYLIGHT
BEGIN:STANDARD
TZOFFSETFROM:+0200
TZOFFSETTO:+0100
TZNAME:CET
DTSTART:20271031T010000
END:STANDARD
BEGIN:DAYLIGHT
TZOFFSETFROM:+0100
TZOFFSETTO:+0200
TZNAME:CEST
DTSTART:20280326T010000
END:DAYLIGHT
BEGIN:STANDARD
TZOFFSETFROM:+0200
TZOFFSETTO:+0100
TZNAME:CET
DTSTART:20281029T010000
END:STANDARD
END:VTIMEZONE
BEGIN:VEVENT
DTSTART;TZID=Europe/Zurich:20260422T190000
DTEND;TZID=Europe/Zurich:20260422T213000
DTSTAMP:20260422T151939
CREATED:20251019T144912Z
LAST-MODIFIED:20251222T135738Z
UID:3569-1776884400-1776893400@archanciel.com
SUMMARY:Essence Féminine - Hiver 2026 - soirée 4
DESCRIPTION:Sur 5 soirées voici les thèmes abordés:-La mythologie du féminin sacré-Les Archétypes du féminin sacré-Renouer avec son corps-Harmoniser son féminin profond-L’équilibre du féminin et du masculin \n\n\n\nEn t’inscrivant à la première soirée\, tu es prise en considération pour toutes les soirées. (21 janvier\, 18 février\, 18 mars\, 22 avril\, 20 mai 2026).
URL:https://archanciel.com/evenement/essence-feminine-hiver-2026-soiree-4/
LOCATION:Archanciel\, Félix-Bovet 6b\, Areuse\, NE\, 2015\, Switzerland
CATEGORIES:Accompagnements,Essence Féminine
ATTACH;FMTTYPE=image/png:https://archanciel.com/wp-content/uploads/2023/07/Plante-Lumiere_784x784.png
ORGANIZER;CN="Myriam Moltrasio":MAILTO:myriam@archanciel.com
END:VEVENT
BEGIN:VEVENT
DTSTART;TZID=Europe/Zurich:20260520T190000
DTEND;TZID=Europe/Zurich:20260520T213000
DTSTAMP:20260422T151939
CREATED:20251019T145050Z
LAST-MODIFIED:20251222T134209Z
UID:3571-1779303600-1779312600@archanciel.com
SUMMARY:Essence Féminine - Hiver 2026 - soirée 5
DESCRIPTION:Sur 5 soirées voici les thèmes abordés:-La mythologie du féminin sacré-Les Archétypes du féminin sacré-Renouer avec son corps-Harmoniser son féminin profond-L’équilibre du féminin et du masculin \n\n\n\nEn t’inscrivant à la première soirée\, tu es prise en considération pour toutes les soirées. (21 janvier\, 18 février\, 18 mars\, 22 avril\, 20 mai 2026).
URL:https://archanciel.com/evenement/essence-feminine-hiver-2026-soiree-5/
LOCATION:Archanciel\, Félix-Bovet 6b\, Areuse\, NE\, 2015\, Switzerland
CATEGORIES:Accompagnements,Essence Féminine
ATTACH;FMTTYPE=image/png:https://archanciel.com/wp-content/uploads/2023/07/Plante-Lumiere_784x784.png
ORGANIZER;CN="Myriam Moltrasio":MAILTO:myriam@archanciel.com
END:VEVENT
BEGIN:VEVENT
DTSTART;TZID=Europe/Zurich:20260923T190000
DTEND;TZID=Europe/Zurich:20260923T220000
DTSTAMP:20260422T151939
CREATED:20260312T102147Z
LAST-MODIFIED:20260312T102149Z
UID:3872-1790190000-1790200800@archanciel.com
SUMMARY:Essence Féminine - Soirée 1 automne 26
DESCRIPTION:Sur 5 soirées voici les thèmes abordés:-La mythologie du féminin sacré-Les Archétypes du féminin sacré-Renouer avec son corps-Harmoniser son féminin profond-L’équilibre du féminin et du masculin \n\n\n\nSur 5 soirées de 19h à 22h environ\, en t’inscrivant à la première\, tu es inscrite pour toutes les soirées\, 23 septembre\, 21 octobre\, 18 novembre\, 9 décembre\, 6 janvier 2027 (les soirées ne sont pas dissociables et dues en cas d’annulation mais remplaçables en individuel).
URL:https://archanciel.com/evenement/essence-feminine-soiree-1-automne-26/
LOCATION:Archanciel\, Félix-Bovet 6b\, Areuse\, NE\, 2015\, Switzerland
CATEGORIES:Accompagnements,Essence Féminine
ATTACH;FMTTYPE=image/png:https://archanciel.com/wp-content/uploads/2023/07/Plante-Lumiere_784x784.png
ORGANIZER;CN="Myriam Moltrasio":MAILTO:myriam@archanciel.com
END:VEVENT
BEGIN:VEVENT
DTSTART;TZID=Europe/Zurich:20261021T190000
DTEND;TZID=Europe/Zurich:20261021T220000
DTSTAMP:20260422T151939
CREATED:20260312T102527Z
LAST-MODIFIED:20260312T104410Z
UID:3876-1792609200-1792620000@archanciel.com
SUMMARY:Essence féminine - Soirée 2 automne 26
DESCRIPTION:Sur 5 soirées voici les thèmes abordés:-La mythologie du féminin sacré-Les Archétypes du féminin sacré-Renouer avec son corps-Harmoniser son féminin profond-L’équilibre du féminin et du masculin \n\n\n\nSur 5 soirées de 19h à 22h environ\, en t’inscrivant à la première\, tu es inscrite pour toutes les soirées\, 23 septembre\, 21 octobre\, 18 novembre\, 9 décembre\, 6 janvier 2027 (les soirées ne sont pas dissociables et dues en cas d’annulation mais remplaçables en individuel).
URL:https://archanciel.com/evenement/essence-feminine-soiree-2-automne-26/
LOCATION:Archanciel\, Félix-Bovet 6b\, Areuse\, NE\, 2015\, Switzerland
CATEGORIES:Accompagnements,Essence Féminine
ATTACH;FMTTYPE=image/png:https://archanciel.com/wp-content/uploads/2023/07/Plante-Lumiere_784x784.png
ORGANIZER;CN="Myriam Moltrasio":MAILTO:myriam@archanciel.com
END:VEVENT
BEGIN:VEVENT
DTSTART;TZID=Europe/Zurich:20261118T190000
DTEND;TZID=Europe/Zurich:20261118T220000
DTSTAMP:20260422T151939
CREATED:20260312T103004Z
LAST-MODIFIED:20260312T103007Z
UID:3878-1795028400-1795039200@archanciel.com
SUMMARY:Essence Féminine - Soirée 3 automne 26
DESCRIPTION:Sur 5 soirées voici les thèmes abordés:-La mythologie du féminin sacré-Les Archétypes du féminin sacré-Renouer avec son corps-Harmoniser son féminin profond-L’équilibre du féminin et du masculin \n\n\n\nSur 5 soirées de 19h à 22h environ\, en t’inscrivant à la première\, tu es inscrite pour toutes les soirées\, 23 septembre\, 21 octobre\, 18 novembre\, 9 décembre\, 6 janvier 2027 (les soirées ne sont pas dissociables et dues en cas d’annulation mais remplaçables en individuel).
URL:https://archanciel.com/evenement/essence-feminine-soiree-3-automne-26/
LOCATION:Archanciel\, Félix-Bovet 6b\, Areuse\, NE\, 2015\, Switzerland
CATEGORIES:Accompagnements,Essence Féminine
ATTACH;FMTTYPE=image/png:https://archanciel.com/wp-content/uploads/2023/07/Plante-Lumiere_784x784.png
ORGANIZER;CN="Myriam Moltrasio":MAILTO:myriam@archanciel.com
END:VEVENT
BEGIN:VEVENT
DTSTART;TZID=Europe/Zurich:20261209T190000
DTEND;TZID=Europe/Zurich:20261209T220000
DTSTAMP:20260422T151939
CREATED:20260312T103452Z
LAST-MODIFIED:20260312T103455Z
UID:3882-1796842800-1796853600@archanciel.com
SUMMARY:Essence Féminine - Soirée 4 automne 26
DESCRIPTION:Sur 5 soirées voici les thèmes abordés:-La mythologie du féminin sacré-Les Archétypes du féminin sacré-Renouer avec son corps-Harmoniser son féminin profond-L’équilibre du féminin et du masculin \n\n\n\nSur 5 soirées de 19h à 22h environ\, en t’inscrivant à la première\, tu es inscrite pour toutes les soirées\, 23 septembre\, 21 octobre\, 18 novembre\, 9 décembre\, 6 janvier 2027 (les soirées ne sont pas dissociables et dues en cas d’annulation mais remplaçables en individuel).
URL:https://archanciel.com/evenement/essence-feminine-soiree-4-automne-26/
LOCATION:Archanciel\, Félix-Bovet 6b\, Areuse\, NE\, 2015\, Switzerland
CATEGORIES:Accompagnements,Essence Féminine
ATTACH;FMTTYPE=image/png:https://archanciel.com/wp-content/uploads/2023/07/Plante-Lumiere_784x784.png
ORGANIZER;CN="Myriam Moltrasio":MAILTO:myriam@archanciel.com
END:VEVENT
BEGIN:VEVENT
DTSTART;TZID=Europe/Zurich:20270106T190000
DTEND;TZID=Europe/Zurich:20270106T220000
DTSTAMP:20260422T151939
CREATED:20260312T103650Z
LAST-MODIFIED:20260312T103652Z
UID:3884-1799262000-1799272800@archanciel.com
SUMMARY:Essence féminine - Soirée 5 automne 26
DESCRIPTION:Sur 5 soirées voici les thèmes abordés:-La mythologie du féminin sacré-Les Archétypes du féminin sacré-Renouer avec son corps-Harmoniser son féminin profond-L’équilibre du féminin et du masculin \n\n\n\nSur 5 soirées de 19h à 22h environ\, en t’inscrivant à la première\, tu es inscrite pour toutes les soirées\, 23 septembre\, 21 octobre\, 18 novembre\, 9 décembre\, 6 janvier 2027 (les soirées ne sont pas dissociables et dues en cas d’annulation mais remplaçables en individuel).
URL:https://archanciel.com/evenement/essence-feminine-soiree-5-automne-26/
LOCATION:Archanciel\, Félix-Bovet 6b\, Areuse\, NE\, 2015\, Switzerland
CATEGORIES:Accompagnements,Essence Féminine
ATTACH;FMTTYPE=image/png:https://archanciel.com/wp-content/uploads/2023/07/Plante-Lumiere_784x784.png
ORGANIZER;CN="Myriam Moltrasio":MAILTO:myriam@archanciel.com
END:VEVENT
END:VCALENDAR