BEGIN:VCALENDAR
VERSION:2.0
PRODID:-//Archanciel - ECPv6.15.20//NONSGML v1.0//EN
CALSCALE:GREGORIAN
METHOD:PUBLISH
X-WR-CALNAME:Archanciel
X-ORIGINAL-URL:https://archanciel.com
X-WR-CALDESC:Évènements pour Archanciel
REFRESH-INTERVAL;VALUE=DURATION:PT1H
X-Robots-Tag:noindex
X-PUBLISHED-TTL:PT1H
BEGIN:VTIMEZONE
TZID:Europe/Zurich
BEGIN:DAYLIGHT
TZOFFSETFROM:+0100
TZOFFSETTO:+0200
TZNAME:CEST
DTSTART:20250330T010000
END:DAYLIGHT
BEGIN:STANDARD
TZOFFSETFROM:+0200
TZOFFSETTO:+0100
TZNAME:CET
DTSTART:20251026T010000
END:STANDARD
BEGIN:DAYLIGHT
TZOFFSETFROM:+0100
TZOFFSETTO:+0200
TZNAME:CEST
DTSTART:20260329T010000
END:DAYLIGHT
BEGIN:STANDARD
TZOFFSETFROM:+0200
TZOFFSETTO:+0100
TZNAME:CET
DTSTART:20261025T010000
END:STANDARD
BEGIN:DAYLIGHT
TZOFFSETFROM:+0100
TZOFFSETTO:+0200
TZNAME:CEST
DTSTART:20270328T010000
END:DAYLIGHT
BEGIN:STANDARD
TZOFFSETFROM:+0200
TZOFFSETTO:+0100
TZNAME:CET
DTSTART:20271031T010000
END:STANDARD
END:VTIMEZONE
BEGIN:VEVENT
DTSTART;TZID=Europe/Zurich:20260423T190000
DTEND;TZID=Europe/Zurich:20260425T170000
DTSTAMP:20260424T133105
CREATED:20250815T154035Z
LAST-MODIFIED:20251222T134358Z
UID:3490-1776970800-1777136400@archanciel.com
SUMMARY:Reiki Unitaire Shamballa
DESCRIPTION:Plus qu’une méthode\, une transformation\, un shift énergétique…. un super outil pour prendre soin de soi et des autres !Le Reiki unitaire Shamballa agit comme un catalyseur\, il élèvetes vibrations\, ouvre tes canaux et t’accompagne dans l’incarnationde tes potentiels.  \n\n\n\nA partir de 4 personnes
URL:https://archanciel.com/evenement/reiki-unitaire-shamballa-2026/
LOCATION:NE
CATEGORIES:Reiki Unitaire Shamballa
ATTACH;FMTTYPE=image/jpeg:https://archanciel.com/wp-content/uploads/2019/11/Double-Arc-en-Ciel-NE_784x784.jpg
ORGANIZER;CN="Myriam Moltrasio":MAILTO:myriam@archanciel.com
END:VEVENT
END:VCALENDAR